BEGIN:VCALENDAR
VERSION:2.0
PRODID:-//NYU Wagner//Drupal//EN
CALSCALE:GREGORIAN
BEGIN:VEVENT
DTEND:20210413T000000Z
UID:335231
DTSTAMP:20210318T133039Z
LOCATION:
DESCRIPTION:Join us to meet the Online MHA Program Director,
Professor Carla Jackie Sampson, and learn more
about how the MHA program works within the online
environment, the rigorous and relevant
industry-oriented curriculum, and our world-class
faculty.

Dr. Sampson is board certified in healthcare
management and is a Fellow of the American College
of Healthcare Executives. Previously, Dr. Sampson
was Assistant Professor and Director of Healthcare
Management Programs in the Department of Risk,
Insurance, and Healthcare Management Programs in
the Fox School of Business, Temple University.
URL;VALUE=URI:https://onlinemha.wagner.nyu.edu/community/events/meet-online-mha-program-director-2021-04-12
SUMMARY:Meet the Online MHA Program Director
DTSTART:20210412T230000Z
END:VEVENT
END:VCALENDAR